BEGIN:VCALENDAR
METHOD:PUBLISH
VERSION:2.0
PRODID:-//hacksw/handcal//NONSGML v1.0//EN
X-WR-TIMEZONE:Australia/Sydney
CALSCALE:GREGORIAN
BEGIN:VEVENT
DTSTART;TZID=Australia/Sydney:20260513T100000
DTEND;TZID=Australia/Sydney:20260513T150000
UID:710623257269E4203FAC3648391436021243590700169E4203FAC37562350559
DTSTAMP:20260420T121310
LOCATION:Marrar Kitchen & Co.  5 York St, Marrar NSW 2652
DESCRIPTION:Mid-Week Meander 13th May 2026 Our Eleventh Mid-Week Meander w
 ill take place on Wednesday 13 th May 2026 and commence with a run to Marr
 ar for a delicious lunch at the Marrar Kitchen. We will then travel via th
 e Olympic Way past the Junee turn-off and on to the Canola Way turning lef
 t and travel to Marrar. Travel home will be at the member\'s own discretio
 n. We will assemble at McDonald\'s carpark Edward St., Wagga, at 10AM for 
 a 10.30AM departure. This will allow our members to use the toilet facilit
 ies and also grab a coffee. RSVPs are absolutely required to let the venue
  know our final catering numbers for Marrar Kitchen. RSVP to Darryl on 040
 7911022 or deejay2650@gmail.com Yours Octagonally, Darryl Ross MGCC Wagga 
 President.
URL;VALUE=URI:http://mgccwagga.org.au/events/view.php?id=710623257269E4203
 FAC3648391436021243590700169E4203FAC37562350559
SUMMARY:Mid-week Meander
END:VEVENT
END:VCALENDAR
